BEGIN:VCALENDAR
VERSION:2.0
PRODID:-//Portfolio - Line Chan - ECPv6.15.16.1//NONSGML v1.0//EN
CALSCALE:GREGORIAN
METHOD:PUBLISH
X-WR-CALNAME:Portfolio - Line Chan
X-ORIGINAL-URL:https://linechan.com
X-WR-CALDESC:Eventos para Portfolio - Line Chan
REFRESH-INTERVAL;VALUE=DURATION:PT1H
X-Robots-Tag:noindex
X-PUBLISHED-TTL:PT1H
BEGIN:VTIMEZONE
TZID:America/Sao_Paulo
BEGIN:STANDARD
TZOFFSETFROM:-0300
TZOFFSETTO:-0300
TZNAME:-03
DTSTART:20250101T000000
END:STANDARD
END:VTIMEZONE
BEGIN:VEVENT
DTSTART;VALUE=DATE:20260501
DTEND;VALUE=DATE:20260531
DTSTAMP:20260425T135159
CREATED:20250605T231023Z
LAST-MODIFIED:20250605T231023Z
UID:25089-1777593600-1780185599@linechan.com
SUMMARY:Temporada de Commissions de Maio
DESCRIPTION:⋆⭒˚.⋆ Maio – Temporada de ternura em formato de Arte ⋆⭒˚.⋆\n⋆⭒˚.⋆ I love it! ⋆⭒˚.⋆\nMaio é um mês de doçura\, de delicadezas que florescem e de afetos que se revelam nos pequenos gestos. \nEssa temporada é dedicada a ilustrar o que há de mais terno: amor\, cuidado\, momentos que merecem ser eternizados. \nIdeal para quem quer presentear com exclusividade e sensibilidade — seja um retrato especial\, uma arte simbólica ou um mimo cheio de significado. \nA arte feita à mão é mais do que um presente: é uma extensão da alma. E aqui\, cada criação nasce com esse propósito\, feito especialmente para você. \nVamos criar algo só seu? \nAcesse para saber mais em: linechan.com/commissions/ \nOu se preferir entrar em contato por e-mail: contato@linechan.com \n⋆⭒˚.⋆ ♡ ⋆⭒˚.⋆ \nTudo aqui é criado com Essência\, Carinho e Magia. \nAguardo a sua encomenda de Commission comigo! \n「 ✦ Line Chan ✦ 」
URL:https://linechan.com/evento/temporada-de-commissions-de-maio/
CATEGORIES:Temporada de Commissions
ATTACH;FMTTYPE=image/png:https://linechan.com/wp-content/uploads/2025/06/Temporada-de-Commissions-MAIO.png
END:VEVENT
END:VCALENDAR